BEGIN:VCALENDAR
VERSION:2.0
PRODID:icalendar-ruby
CALSCALE:GREGORIAN
METHOD:PUBLISH
BEGIN:VEVENT
DTSTAMP:20260420T133222Z
UID:19-431314@kingsleyavecofc.com
DTSTART:20250130T000000Z
DTEND:20250130T010000Z
CLASS:PUBLIC
CREATED:20260420T073740
DESCRIPTION:You are invited to join us as we discuss God's Providence.\nSee
  you soon.
LAST-MODIFIED:20260420T073740
LOCATION:1365 Kingsley Avenue\, Orange Park FL 32067
SUMMARY:God's Providence and You
URL;VALUE=URI:https://www.kingsleyavecofc.com/events/gods-providence-and-yo
 u/2025-01-29
ATTACH;FILENAME=1747201725577.jpg;FMTTYPE=image/jpeg:https://dq5pwpg1q8ru0.
 cloudfront.net/2025/10/22/20/25/21/3ace1407-da56-449f-a06f-00415d3710bd/17
 47201725577.jpg
END:VEVENT
END:VCALENDAR
